BEGIN:VCALENDAR
VERSION:2.0
PRODID:-//hacksw/handcal//NONSGML v1.0//EN
BEGIN:VEVENT
SUMMARY:U13 - ETOILE NORD LOIRE
UID:e66c4cf1-9a43-4924-b803-c5b665da6da3
DTSTART:20260410T220000Z
DTEND:20260411T220000Z
LOCATION:Localisation   
CATEGORIES:Sportif
STATUS:
URL;VALUE=URI:https://www.gfloirecens.com/evenements/2026/04/11/u13-etoile-nord-loire-2444041
END:VEVENT
END:VCALENDAR
