BEGIN:VCALENDAR
VERSION:2.0
PRODID:-//hacksw/handcal//NONSGML v1.0//EN
BEGIN:VEVENT
SUMMARY:GF Orvault - U11
UID:66d41b80-b762-4303-a89a-a15325efb81c
DTSTART:20260410T220000Z
DTEND:20260411T220000Z
LOCATION:Localisation   
CATEGORIES:Sportif
STATUS:
URL;VALUE=URI:https://www.gfloirecens.com/evenements/2026/04/11/gf-orvault-u11-2444037
END:VEVENT
END:VCALENDAR
