BEGIN:VCALENDAR
VERSION:2.0
PRODID:-//hacksw/handcal//NONSGML v1.0//EN
BEGIN:VEVENT
SUMMARY:BOUGUENAIS FOOT / SENIORS
UID:8452b5a8-6434-439b-9783-082c4182b804
DTSTART:20260321T230000Z
DTEND:20260322T230000Z
LOCATION:Localisation   
CATEGORIES:Sportif
STATUS:
URL;VALUE=URI:https://www.gfloirecens.com/evenements/2026/03/22/bouguenais-foot-seniors-2436332
END:VEVENT
END:VCALENDAR
