BEGIN:VCALENDAR
VERSION:2.0
PRODID:-//hacksw/handcal//NONSGML v1.0//EN
BEGIN:VEVENT
SUMMARY:U11 / ST NAZAIRE
UID:a6370264-5805-448f-a4f9-f7d3f94ce45e
DTSTART:20260320T230000Z
DTEND:20260321T230000Z
LOCATION:Localisation   
CATEGORIES:Sportif
STATUS:
URL;VALUE=URI:https://www.gfloirecens.com/evenements/2026/03/21/u11-st-nazaire-2436327
END:VEVENT
END:VCALENDAR
