BEGIN:VCALENDAR
VERSION:2.0
PRODID:-//hacksw/handcal//NONSGML v1.0//EN
BEGIN:VEVENT
SUMMARY:U11 / ST HERBLAIN
UID:3eb3a9bb-09ed-4e86-a2a1-2ded9ce77156
DTSTART:20260320T230000Z
DTEND:20260321T230000Z
LOCATION:Localisation   
CATEGORIES:Sportif
STATUS:
URL;VALUE=URI:https://www.gfloirecens.com/evenements/2026/03/21/u11-st-herblain-2436326
END:VEVENT
END:VCALENDAR
