BEGIN:VCALENDAR
VERSION:2.0
PRODID:-//hacksw/handcal//NONSGML v1.0//EN
BEGIN:VEVENT
SUMMARY:GUERANDE MADELAINE / U15 (8)
UID:618feb8c-c833-430b-b3a7-fd189b5c7618
DTSTART:20260320T230000Z
DTEND:20260321T230000Z
LOCATION:Localisation   
CATEGORIES:Sportif
STATUS:
URL;VALUE=URI:https://www.gfloirecens.com/evenements/2026/03/21/guerande-madelaine-u15-8-2436330
END:VEVENT
END:VCALENDAR
