BEGIN:VCALENDAR
VERSION:2.0
PRODID:-//hacksw/handcal//NONSGML v1.0//EN
BEGIN:VEVENT
SUMMARY:GF Orvault / U15 (11)
UID:985faeaa-03ee-44d2-8d7a-b18d2306d75a
DTSTART:20260320T230000Z
DTEND:20260321T230000Z
LOCATION:Localisation   
CATEGORIES:Sportif
STATUS:
URL;VALUE=URI:https://www.gfloirecens.com/evenements/2026/03/21/gf-orvault-u15-11-2436331
END:VEVENT
END:VCALENDAR
